Workbook
Name _TOT1: 'COUNTY AND COUNTRY'!#REF!
Name _TOT1: 'RELIGIOUS TRADITIONS'!$B$45
Name Print_Area_MI: '3 YEAR COMP MAJORS'!$A$1:$A$46
Name Print_Area_MI: 'COUNTY AND COUNTRY'!$A$1:$F$48
Name Print_Area_MI: ENROLLMENT!$A$1:$L$35
Name Print_Area_MI: MAJORS!$A$1:$D$73
Name Print_Area_MI: 'RELIGIOUS TRADITIONS'!$A$1:$C$46
Name Print_Area_MI: #REF!

Sheet COVER
A16: R E G I S T R A R ' S R E P O R T
A17: FALL 2026
A19: SEPTEMBER 8, 2026
C27: Part I | D27: Enrollment Report
C28: Part II | D28: Breakdown by Religious Traditions, State,
D29: County, Foreign Countries and Majors
C30: Part III | D30: Comparison Reports

Sheet ENROLLMENT
C2: MALE | G2: FEMALE | K2: TOTAL
B3: PART- | C3: FULL- | F3: PART- | G3: FULL- | J3: PART- | K3: FULL- | L3: COMBINED
A4: UNDERGRADUATE ENROLLMENT | B4: TIME | C4: TIME | D4: TOTAL | F4: TIME | G4: TIME | H4: TOTAL | J4: TIME | K4: TIME | L4: TOTAL
A5: ENROLLMENT
A6: First Time In College | B6: 0 | C6: 556 | D6: =B6+C6 -> 556 | F6: 0 | G6: 881 | H6: =F6+G6 -> 881 | J6: =B6+F6 -> 0 | K6: =C6+G6 -> 1437 | L6: =J6+K6 -> 1437
A7: Other First Year | B7: 0 | C7: 66 | D7: =B7+C7 -> 66 | F7: 0 | G7: 39 | H7: =F7+G7 -> 39 | J7: =B7+F7 -> 0 | K7: =C7+G7 -> 105 | L7: =J7+K7 -> 105
A8: Total First Year | B8: =B6+B7 -> 0 | C8: =C6+C7 -> 622 | D8: =D6+D7 -> 622 | F8: =F6+F7 -> 0 | G8: =G6+G7 -> 920 | H8: =H6+H7 -> 920 | J8: =J6+J7 -> 0 | K8: =K6+K7 -> 1542 | L8: =SUM(L6:L7) -> 1542
A10: Sophomores | B10: 1 | C10: 511 | D10: =B10+C10 -> 512 | F10: 0 | G10: 677 | H10: =F10+G10 -> 677 | J10: =B10+F10 -> 1 | K10: =C10+G10 -> 1188 | L10: =J10+K10 -> 1189
A11: Juniors | B11: 3 | C11: 576 | D11: =B11+C11 -> 579 | F11: 2 | G11: 845 | H11: =F11+G11 -> 847 | J11: =B11+F11 -> 5 | K11: =C11+G11 -> 1421 | L11: =J11+K11 -> 1426
A12: Seniors | B12: 49 | C12: 620 | D12: =B12+C12 -> 669 | F12: 40 | G12: 962 | H12: =F12+G12 -> 1002 | J12: =B12+F12 -> 89 | K12: =C12+G12 -> 1582 | L12: =J12+K12 -> 1671
A13: Special Undergraduate Students | B13: 24 | C13: 36 | D13: =B13+C13 -> 60 | F13: 23 | G13: 25 | H13: =F13+G13 -> 48 | J13: =F13+B13 -> 47 | K13: =C13+G13 -> 61 | L13: =J13+K13 -> 108
A14: Post-Baccalaureate | B14: 0 | C14: 11 | D14: =B14+C14 -> 11 | F14: 0 | G14: 40 | H14: =F14+G14 -> 40 | J14: =F14+B14 -> 0 | K14: =C14+G14 -> 51 | L14: =J14+K14 -> 51
A15: Total Undergraduate Enrollment | B15: =SUM(B8:B14) -> 77 | C15: =SUM(C8:C14) -> 2376 | D15: =SUM(D8:D14) -> 2453 | F15: =SUM(F8:F14) -> 65 | G15: =SUM(G8:G14) -> 3469 | H15: =SUM(H8:H14) -> 3534 | J15: =SUM(J8:J14) -> 142 | K15: =SUM(K8:K14) -> 5845 | L15: =SUM(L8:L14) -> 5987
A18: GRADUATE ENROLLMENT
A19: Doctor of Physical Therapy | B19: 0 | C19: 36 | D19: =B19+C19 -> 36 | F19: 0 | G19: 105 | H19: =F19+G19 -> 105 | J19: =B19+F19 -> 0 | K19: =C19+G19 -> 141 | L19: =K19+J19 -> 141
A20: Graduate Business Certificate in Operations Excellence | B20: 0 | C20: 0 | D20: =B20+C20 -> 0 | F20: 0 | G20: 0 | H20: =F20+G20 -> 0 | J20: 0 | K20: 0 | L20: =K20+J20 -> 0
A21: Healthcare Analytics Graduate Certificate | B21: 0 | C21: 7 | D21: =B21+C21 -> 7 | F21: 0 | G21: 3 | H21: =F21+G21 -> 3 | J21: =B21+F21 -> 0 | K21: =C21+G21 -> 10 | L21: =K21+J21 -> 10
A22: Juris Doctorate * | B22: 34 | C22: 194 | D22: =B22+C22 -> 228 | F22: 84 | G22: 300 | H22: =F22+G22 -> 384 | J22: =B22+F22+J23 -> 118 | K22: =C22+G22+K23 -> 501 | L22: =K22+J22 -> 619
A23: Juris Doctorate/Master of Business Administration | B23: 0 | C23: 3 | D23: =B23+C23 -> 3 | F23: 0 | G23: 4 | H23: =F23+G23 -> 4 | J23: =B23+F23 -> 0 | K23: =C23+G23 -> 7 | L23: =K23+J23 -> 7
A24: Master of Arts - Higher Education | B24: 0 | C24: 3 | D24: =B24+C24 -> 3 | F24: 1 | G24: 14 | H24: =F24+G24 -> 15 | J24: =B24+F24+J23 -> 1 | K24: =C24+G24 -> 17 | L24: =K24+J24 -> 18
A25: Master of Business Administration * | B25: 6 | C25: 4 | D25: =B25+C25 -> 10 | F25: 10 | G25: 1 | H25: =F25+G25 -> 11 | J25: =B25+F25+J23 -> 16 | K25: =C25+G25+K23 -> 12 | L25: =K25+J25 -> 28
A26: Master of Education | B26: 2 | C26: 0 | D26: =B26+C26 -> 2 | F26: 37 | G26: 0 | H26: =F26+G26 -> 37 | J26: =B26+F26 -> 39 | K26: =C26+G26 -> 0 | L26: =K26+J26 -> 39
A27: Master of Science - Accounting | B27: 0 | C27: 0 | D27: =B27+C27 -> 0 | F27: 0 | G27: 1 | H27: =F27+G27 -> 1 | J27: =B27+F27 -> 0 | K27: =C27+G27 -> 1 | L27: =K27+J27 -> 1
A28: Master of Science - Business Analytics | B28: 5 | C28: 11 | D28: =B28+C28 -> 16 | F28: 1 | G28: 6 | H28: =F28+G28 -> 7 | J28: =B28+F28 -> 6 | K28: =C28+G28 -> 17 | L28: =K28+J28 -> 23
A29: Master of Science - Clinical Mental Health Counseling | B29: 0 | C29: 8 | D29: =B29+C29 -> 8 | F29: 0 | G29: 13 | H29: =F29+G29 -> 13 | J29: =B29+F29 -> 0 | K29: =C29+G29 -> 21 | L29: =K29+J29 -> 21
A30: Master of Science - Physician Assistant Studies | B30: 0 | C30: 12 | D30: =B30+C30 -> 12 | F30: 0 | G30: 94 | H30: =F30+G30 -> 94 | J30: =B30+F30 -> 0 | K30: =C30+G30 -> 106 | L30: =K30+J30 -> 106
A31: Total Graduate Enrollment | B31: =SUM(B19:B30) -> 47 | C31: =SUM(C19:C30) -> 278 | D31: =C31+B31 -> 325 | F31: =SUM(F19:F30) -> 133 | G31: =SUM(G19:G30) -> 541 | H31: =G31+F31 -> 674 | J31: =SUM(J19:J30)-(2*J23) -> 180 | K31: =SUM(K19:K30)-(2*K23) -> 819 | L31: =K31+J31 -> 999
A33: TOTAL ENROLLMENT | B33: =B15+B31 -> 124 | C33: =C15+C31 -> 2654 | D33: =D15+D31 -> 2778 | F33: =F15+F31 -> 198 | G33: =G15+G31 -> 4010 | H33: =H15+H31 -> 4208 | J33: =J15+J31 -> 322 | K33: =K15+K31 -> 6664 | L33: =L15+L31 -> 6986
A34: * Students in JD/MBA dual degree (8 total) are double counted here

Sheet RELIGIOUS TRADITIONS
A1: Religious Traditions | B1: TOTAL | C1: % TOTAL
A2: Catholic | B2: 965 | C2: =(B2/_TOT1)*100 -> 13.811364
A3: Christian - Other | B3: 581 | C3: =(B3/_TOT1)*100 -> 8.315443
A4: Jewish | B4: 569 | C4: =(B4/_TOT1)*100 -> 8.1436954
A5: None | B5: 406 | C5: =(B5/_TOT1)*100 -> 5.8107915
A6: Agnostic | B6: 245 | C6: =(B6/_TOT1)*100 -> 3.5065121
A7: Atheist | B7: 205 | C7: =(B7/_TOT1)*100 -> 2.9340203
A8: Baptist | B8: 152 | C8: =(B8/_TOT1)*100 -> 2.1754687
A9: Methodist | B9: 136 | C9: =(B9/_TOT1)*100 -> 1.946472
A10: Presbyterian | B10: 116 | C10: =(B10/_TOT1)*100 -> 1.6602261
A11: Episcopalian | B11: 96 | C11: =(B11/_TOT1)*100 -> 1.3739802
A12: Church of Christ | B12: 92 | C12: =(B12/_TOT1)*100 -> 1.3167311
A13: Lutheran | B13: 64 | C13: =(B13/_TOT1)*100 -> 0.91598683
... A44: Did not disclose | B44: 3102 | C44: =(B44/_TOT1)*100 -> 44.396737
B45: =SUM(B2:B44) -> 6987 | C45: =SUM(B45/ENROLLMENT!L33)*100 -> 100.01431
A46: ^ The admissions application for Fall 2026 no longer included demographic questions. While 92% of first-year students self-reported
A47: this information, demographic comparisons to previous years are impacted.

Sheet STATES REPRESENTED
A1: STATES REPRESENTED | B1: TOTAL | C1: % TOTAL ENROLLMENT
A2: North Carolina | B2: 2144 | C2: =SUM(B2/$B$52)*100 -> 30.685559
A3: Massachusetts | B3: 684 | C3: =SUM(B3/$B$52)*100 -> 9.7896093
A4: New York | B4: 489 | C4: =SUM(B4/$B$52)*100 -> 6.9987119
A5: New Jersey | B5: 477 | C5: =SUM(B5/$B$52)*100 -> 6.8269644
A6: Virginia | B6: 410 | C6: =SUM(B6/$B$52)*100 -> 5.8680406
A7: Maryland | B7: 373 | C7: =SUM(B7/$B$52)*100 -> 5.3384858
A8: Connecticut | B8: 302 | C8: =SUM(B8/$B$52)*100 -> 4.3223129
A9: Pennsylvania | B9: 286 | C9: =SUM(B9/$B$52)*100 -> 4.0933162
A10: Georgia | B10: 207 | C10: =SUM(B10/$B$52)*100 -> 2.9626449
A11: Florida | B11: 192 | C11: =SUM(B11/$B$52)*100 -> 2.7479605
A12: South Carolina | B12: 157 | C12: =SUM(B12/$B$52)*100 -> 2.2470302
A13: Illinois | B13: 149 | C13: =SUM(B13/$B$52)*100 -> 2.1325318
... A51: South Dakota | B51: 1 | C51: =SUM(B51/$B$52)*100 -> 0.014312294
A52: Total | B52: =SUM(B2:B51) -> 6987 | C52: =SUM(B52/$B$52)*100 -> 100

Sheet COUNTY AND COUNTRY
A1: COUNTIES | C1: % OF TOTAL NC
A2: REPRESENTED | B2: TOTAL | C2: ENROLLMENT
A3: Wake | B3: 347 | C3: =SUM(B3/$B$24)*100 -> 16.184701
A4: Alamance | B4: 289 | C4: =SUM(B4/$B$24)*100 -> 13.479478
A5: Mecklenburg | B5: 273 | C5: =SUM(B5/$B$24)*100 -> 12.733209
A6: Guilford | B6: 244 | C6: =SUM(B6/$B$24)*100 -> 11.380597
A7: Orange | B7: 118 | C7: =SUM(B7/$B$24)*100 -> 5.5037313
A8: Durham | B8: 103 | C8: =SUM(B8/$B$24)*100 -> 4.8041045
A9: Union | B9: 94 | C9: =SUM(B9/$B$24)*100 -> 4.3843284
A10: Forsyth | B10: 92 | C10: =SUM(B10/$B$24)*100 -> 4.2910448
A11: Iredell | B11: 52 | C11: =SUM(B11/$B$24)*100 -> 2.4253731
A12: Cabarrus | B12: 46 | C12: =SUM(B12/$B$24)*100 -> 2.1455224
A13: New Hanover | B13: 34 | C13: =SUM(B13/$B$24)*100 -> 1.5858209
A14: Chatham | B14: 31 | C14: =SUM(B14/$B$24)*100 -> 1.4458955
... A23: Other Counties | B23: 261 | C23: =SUM(B23/$B$24)*100 -> 12.173507
B24: =SUM(B3:B23) -> 2144 | C24: =SUM(B24/$B$24)*100 -> 100
A25: Students are enrolled from 80 North Carolina counties.
A27: FOREIGN COUNTRIES REPRESENTED
A28: Afghanistan | B28: 1 | C28: Germany | D28: 10 | E28: Norway | F28: 1
A29: Andorra | B29: 1 | C29: Ghana | D29: 3 | E29: Pakistan | F29: 1
A30: Argentina | B30: 1 | C30: Honduras | D30: 1 | E30: Palestine | F30: 1
A31: Bahamas | B31: 1 | C31: Hong Kong | D31: 1 | E31: Panama | F31: 1
A32: Belgium | B32: 2 | C32: Hungary | D32: 1 | E32: Philippines | F32: 1
A33: Bermuda | B33: 1 | C33: Iceland | D33: 1 | E33: Poland | F33: 2
A34: Bolivia | B34: 1 | C34: India | D34: 4 | E34: Portugal | F34: 2
A35: Canada | B35: 17 | C35: Ireland | D35: 1 | E35: Russia | F35: 1
A36: Cayman Islands | B36: 1 | C36: Italy | D36: 3 | E36: Serbia | F36: 1
A37: Chile | B37: 2 | C37: Jamaica | D37: 1 | E37: South Africa | F37: 1
A38: China | B38: 7 | C38: Japan | D38: 4 | E38: South Korea | F38: 1
A39: Colombia | B39: 1 | C39: Jordan | D39: 1 | E39: Spain | F39: 21
... A44: France | B44: 9 | C44: New Zealand | D44: 1 | E44: United Kingdom | F44: 1
E46: TOTAL 136
A47: Represented in the total student enrollment are 47 states, the District of Columbia,
A48: and 51 foreign countries.

Sheet MAJORS
A1: UNDERGRADUATE
A2: College of Arts and Sciences | E2: School of Communications
A3: Acting | B3: 57 | E3: Cinema and Television Arts | F3: 137
A4: Anthropology | B4: 18 | E4: Communication Design | F4: 107
A5: Applied Mathematics | B5: 18 | E5: Digital Content Management | F5: 42
A6: Art | B6: 24 | E6: Journalism | F6: 124
A7: Art History | B7: 17 | E7: Media Analytics | F7: 50
A8: Arts Administration | B8: 41 | E8: Sport Management | F8: 248
A9: Astronomy | B9: 3 | E9: Strategic Communications | F9: 314
A10: Astrophysics | B10: 24 | E10: Total | F10: =SUM(F3:F9) -> 1022
A11: Biochemistry | B11: 64
A12: Biology | B12: 244 | E12: Dr. Jo Watts Williams School of Education
A13: Chemistry | B13: 34 | E13: Elementary Education | F13: 216
A14: Classical Studies | B14: 8 | E14: Middle Grades Education | F14: 22
A15: Dance Performance and Choreography | B15: 49 | E15: Outdoor Leadership and Education | F15: 21
A16: Dance Science | B16: 41 | E16: Science Education | F16: 1
A17: Data Analytics | B17: 45 | E17: Special Education | F17: 45
A18: Drama and Theatre Studies | B18: 22 | E18: Total | F18: =SUM(F13:F17) -> 305
A19: English | B19: 84
A20: Environmental and Ecological Science | B20: 43 | E20: The Love School of Business
A21: Environmental and Sustainability Studies | B21: 23 | E21: Accounting | F21: 258
A22: Environmental Studies | B22: 27 | E22: Business Analytics and AI | F22: 262
A23: Exercise Science | B23: 262 | E23: Business Economics and Consulting | F23: 50
A24: French | B24: 9 | E24: Economics | F24: 105
A25: History | B25: 51 | E25: Entrepreneurship and Innovation | F25: 122
A26: Human Service Studies | B26: 73 | E26: Finance | F26: 625
A27: Individualized Major | B27: 4 | E27: Financial Technology | F27: 44
A28: International and Global Studies | B28: 62 | E28: Human Resource Management | F28: 28
A29: Mathematics | B29: 21 | E29: International Business | F29: 124
A30: Music in the Liberal Arts | B30: 21 | E30: Marketing | F30: 374
A31: Music Performance | B31: 9 | E31: Project Management | F31: 80
A32: Music Production and Recording Arts | B32: 51 | E32: Supply Chain Management | F32: 39
A33: Music Theatre | B33: 72 | E33: Total | F33: =SUM(F21:F32) -> 2111
A34: Neuroscience | B34: 71
A35: Philosophy | B35: 16
A36: Physics | B36: 17 | E36: School of Health Sciences
A37: Policy Studies | B37: 11 | E37: Nursing | F37: 289
A38: Political Science | B38: 212 | E38: Total | F38: =F37 -> 289
A39: Professional Writing and Rhetoric | B39: 6
A40: Psychology | B40: 476 | E40: Other | F40: 109
...

Sheet 3 YEAR COMP
C4: PARTTIME | F4: FULLTIME | I4: TOTAL
B5: 2024 | C5: 2025 | D5: 2026 | E5: 2024 | F5: 2025 | G5: 2026 | H5: 2024 | I5: 2025 | J5: 2026
A6: UNDERGRADUATE ENROLLMENT
A7: First Time In College | B7: 0 | C7: 1 | D7: =ENROLLMENT!J6 -> 0 | E7: 1607 | F7: 1332 | G7: =ENROLLMENT!K6 -> 1437 | H7: =B7+E7 -> 1607 | I7: =C7+F7 -> 1333 | J7: =D7+G7 -> 1437
A8: Other First Year | B8: 1 | C8: 2 | D8: =ENROLLMENT!J7 -> 0 | E8: 111 | F8: 99 | G8: =ENROLLMENT!K7 -> 105 | H8: =B8+E8 -> 112 | I8: =C8+F8 -> 101 | J8: =D8+G8 -> 105
A9: Total First Year | B9: 1 | C9: 3 | D9: =SUM(D7:D8) -> 0 | E9: 1718 | F9: 1431 | G9: =SUM(G7:G8) -> 1542 | H9: =B9+E9 -> 1719 | I9: =C9+F9 -> 1434 | J9: =SUM(J7:J8) -> 1542
A11: Sophomores | B11: 4 | C11: 1 | D11: =ENROLLMENT!J10 -> 1 | E11: 1509 | F11: 1418 | G11: =ENROLLMENT!K10 -> 1188 | H11: =B11+E11 -> 1513 | I11: =C11+F11 -> 1419 | J11: =D11+G11 -> 1189
A12: Juniors | B12: 11 | C12: 1 | D12: =ENROLLMENT!J11 -> 5 | E12: 1518 | F12: 1488 | G12: =ENROLLMENT!K11 -> 1421 | H12: =B12+E12 -> 1529 | I12: =C12+F12 -> 1489 | J12: =D12+G12 -> 1426
A13: Seniors | B13: 90 | C13: 92 | D13: =ENROLLMENT!J12 -> 89 | E13: 1445 | F13: 1587 | G13: =ENROLLMENT!K12 -> 1582 | H13: =B13+E13 -> 1535 | I13: =C13+F13 -> 1679 | J13: =D13+G13 -> 1671
A14: Special Undergraduate Students | B14: 85 | C14: 71 | D14: =ENROLLMENT!J13 -> 47 | E14: 28 | F14: 44 | G14: =ENROLLMENT!K13 -> 61 | H14: =B14+E14 -> 113 | I14: =C14+F14 -> 115 | J14: =D14+G14 -> 108
A15: Post-Baccalaureate | B15: 0 | C15: 0 | D15: =ENROLLMENT!J14 -> 0 | E15: 43 | F15: 55 | G15: =ENROLLMENT!K14 -> 51 | H15: =B15+E15 -> 43 | I15: =C15+F15 -> 55 | J15: =D15+G15 -> 51
A16: Total Undergraduate Enrollment | B16: 191 | C16: 168 | D16: =SUM(D9:D15) -> 142 | E16: 6261 | F16: 6023 | G16: =SUM(G9:G15) -> 5845 | H16: =B16+E16 -> 6452 | I16: =C16+F16 -> 6191 | J16: =SUM(J9:J15) -> 5987
A18: GRADUATE ENROLLMENT
A19: Doctor of Physical Therapy | B19: 0 | C19: 0 | D19: =ENROLLMENT!J19 -> 0 | E19: 134 | F19: 141 | G19: =ENROLLMENT!K19 -> 141 | H19: =B19+E19 -> 134 | I19: =C19+F19 -> 141 | J19: =D19+G19 -> 141
A20: Graduate Business Certificate in Operations Excellence | B20: 0 | C20: 0 | D20: 0 | E20: 0 | F20: 0 | G20: 0 | H20: 0 | I20: 0 | J20: 0
A21: Healthcare Analytics Graduate Certificate | B21: 0 | C21: 0 | D21: =ENROLLMENT!J21 -> 0 | E21: 0 | F21: 16 | G21: =ENROLLMENT!K21 -> 10 | H21: =B21+E21 -> 0 | I21: =C21+F21 -> 16 | J21: =D21+G21 -> 10
A22: Juris Doctorate * | B22: 36 | C22: 78 | D22: =ENROLLMENT!J22 -> 118 | E22: 443 | F22: 466 | G22: =ENROLLMENT!K22 -> 501 | H22: =B22+E22 -> 479 | I22: =C22+F22 -> 544 | J22: =D22+G22 -> 619
A23: Juris Doctorate/Master of Business Administration | B23: 0 | C23: 0 | D23: =ENROLLMENT!J23 -> 0 | E23: 21 | F23: 14 | G23: =ENROLLMENT!K23 -> 7 | H23: =B23+E23 -> 21 | I23: =C23+F23 -> 14 | J23: =D23+G23 -> 7
A24: Master of Arts - Higher Education | B24: 0 | C24: 5 | D24: =ENROLLMENT!J24 -> 1 | E24: 21 | F24: 16 | G24: =ENROLLMENT!K24 -> 17 | H24: =B24+E24 -> 21 | I24: =C24+F24 -> 21 | J24: =D24+G24 -> 18
A25: Master of Business Administration * | B25: 16 | C25: 16 | D25: =ENROLLMENT!J25 -> 16 | E25: 26 | F25: 19 | G25: =ENROLLMENT!K25 -> 12 | H25: =B25+E25 -> 42 | I25: =C25+F25 -> 35 | J25: =D25+G25 -> 28
A26: Master of Education | B26: 0 | C26: 35 | D26: =ENROLLMENT!J26 -> 39 | E26: 34 | F26: 0 | G26: =ENROLLMENT!K26 -> 0 | H26: =B26+E26 -> 34 | I26: =C26+F26 -> 35 | J26: =D26+G26 -> 39
A27: Master of Science - Accounting | B27: 0 | C27: 0 | D27: =ENROLLMENT!J27 -> 0 | E27: 1 | F27: 4 | G27: =ENROLLMENT!K27 -> 1 | H27: =B27+E27 -> 1 | I27: =C27+F27 -> 4 | J27: =D27+G27 -> 1
A28: Master of Science - Business Analytics | B28: 8 | C28: 6 | D28: =ENROLLMENT!J28 -> 6 | E28: 15 | F28: 18 | G28: =ENROLLMENT!K28 -> 17 | H28: =B28+E28 -> 23 | I28: =C28+F28 -> 24 | J28: =D28+G28 -> 23
A29: Master of Science - Clinical Mental Health Counseling | B29: 0 | C29: 0 | D29: =ENROLLMENT!J29 -> 0 | E29: 0 | F29: 0 | G29: =ENROLLMENT!K29 -> 21 | H29: =B29+E29 -> 0 | I29: =C29+F29 -> 0 | J29: =D29+G29 -> 21
A30: Master of Science - Physician Assistant Studies | B30: 0 | C30: 0 | D30: =ENROLLMENT!J30 -> 0 | E30: 74 | F30: 73 | G30: =ENROLLMENT!K30 -> 106 | H30: =B30+E30 -> 74 | I30: =C30+F30 -> 73 | J30: =D30+G30 -> 106
A31: Total Graduate Enrollment | B31: 60 | C31: 140 | D31: =SUM(D19:D30) -> 180 | E31: =SUM(E19:E30)-(2*E23) -> 727 | F31: =SUM(F19:F30)-(2*F23) -> 739 | G31: =SUM(G19:G30) -> 833 | H31: =B31+E31 -> 787 | I31: =C31+F31 -> 879 | J31: =SUM(J19:J30)-(2*J23) -> 999
A32: TOTAL ENROLLMENT | B32: =B31+B16 -> 251 | C32: =C31+C16 -> 308 | D32: =D31+D16 -> 322 | E32: =E31+E16 -> 6988 | F32: =F31+F16 -> 6762 | G32: =G31+G16 -> 6678 | H32: =H31+H16 -> 7239 | I32: =I31+I16 -> 7070 | J32: =J16+J31 -> 6986
A33: * Students in JD/MBA dual degree are double counted here

Sheet 3 YEAR COMP MAJORS
B1: 2024 | C1: 2025 | D1: 2026 | H1: 2024 | I1: 2025 | J1: 2026
A2: College of Arts and Sciences | G2: School of Communications
A3: Acting | B3: 53 | C3: 52 | D3: 57 | G3: Cinema and Television Arts | H3: 187 | I3: 155 | J3: 137
A4: Anthropology | B4: 24 | C4: 17 | D4: 18 | G4: Digital Content Management | H4: 0 | I4: 11 | J4: 42
A5: Applied Mathematics | B5: 18 | C5: 18 | D5: 18 | G5: Journalism | H5: 142 | I5: 139 | J5: 124
A6: Art | B6: 26 | C6: 18 | D6: 24 | G6: Media Analytics | H6: 71 | I6: 49 | J6: 50
A7: Art History | B7: 15 | C7: 18 | D7: 17 | G7: Sport Management | H7: 269 | I7: 264 | J7: 248
A8: Arts Administration | B8: 36 | C8: 49 | D8: 41 | G8: Strategic Communications | H8: 386 | I8: 336 | J8: 314
A9: Astronomy | B9: 7 | C9: 5 | D9: 3 | G9: Visual Communication | H9: 166 | I9: 135 | J9: 107
A10: Astrophysics | B10: 20 | C10: 21 | D10: 24 | G10: Total | H10: 1221 | I10: =SUM(I3:I9) -> 1089 | J10: =SUM(J3:J9) -> 1022
A11: Biochemistry | B11: 62 | C11: 65 | D11: 64
A12: Biology | B12: 283 | C12: 258 | D12: 244 | G12: Dr. Jo Watts Williams School of Education
A13: Bio-Physics/Biomedical Engineering § | B13: 0 | C13: 2 | D13: 0 | G13: Early Childhood Education | H13: 2 | I13: 1 | J13: 0
A14: Chemistry | B14: 36 | C14: 22 | D14: 34 | G14: Elementary Education | H14: 199 | I14: 183 | J14: 216
A15: Classical Studies | B15: 8 | C15: 14 | D15: 8 | G15: Middle Grades Education | H15: 20 | I15: 22 | J15: 22
A16: Computer Science § | B16: 148 | C16: 134 | D16: 0 | G16: Outdoor Leadership and Education | H16: 19 | I16: 15 | J16: 21
A17: Dance Performance and Choreography | B17: 45 | C17: 39 | D17: 49 | G17: Science Education | H17: 1 | I17: 2 | J17: 1
A18: Dance Science | B18: 35 | C18: 27 | D18: 41 | G18: Special Education | H18: 40 | I18: 39 | J18: 45
A19: Data Analytics | B19: 36 | C19: 38 | D19: 45 | G19: Total | H19: 281 | I19: =SUM(I13:I18) -> 262 | J19: =SUM(J13:J18) -> 305
A20: Drama and Theatre Studies | B20: 23 | C20: 18 | D20: 22
A21: Engineering § | B21: 156 | C21: 189 | D21: 0 | G21: The Love School of Business
A22: Engineering Mathematics § | B22: 2 | C22: 0 | D22: 0 | G22: Accounting | H22: 209 | I22: 214 | J22: 258
A23: Environmental Science/Environmental Engineering § | B23: 0 | C23: 1 | D23: 0 | G23: Business Analytics and AI | H23: 317 | I23: 285 | J23: 262
A24: English | B24: 107 | C24: 97 | D24: 84 | G24: Business Economics and Consulting | H24: 25 | I24: 30 | J24: 50
A25: Environmental and Ecological Science | B25: 33 | C25: 41 | D25: 43 | G25: Economics | H25: 108 | I25: 92 | J25: 105
A26: Environmental and Sustainability Studies | B26: 45 | C26: 37 | D26: 23 | G26: Entrepreneurship and Innovation | H26: 165 | I26: 144 | J26: 122
A27: Environmental Studies | B27: 32 | C27: 37 | D27: 27 | G27: Finance | H27: 527 | I27: 564 | J27: 625
A28: Exercise Science | B28: 273 | C28: 270 | D28: 262 | G28: Financial Technology | H28: 31 | I28: 29 | J28: 44
A29: French | B29: 11 | C29: 5 | D29: 9 | G29: Human Resource Management | H29: 30 | I29: 29 | J29: 28
A30: History | B30: 80 | C30: 74 | D30: 51 | G30: International Business | H30: 172 | I30: 146 | J30: 124
A31: Human Service Studies | B31: 59 | C31: 67 | D31: 73 | G31: Management | H31: 4 | I31: 2 | J31: 0
A32: Individualized Major | B32: 7 | C32: 8 | D32: 4 | G32: Marketing | H32: 443 | I32: 434 | J32: 374
A33: International and Global Studies | B33: 67 | C33: 67 | D33: 62 | G33: Project Management | H33: 104 | I33: 73 | J33: 80
A34: Mathematics | B34: 25 | C34: 22 | D34: 21 | G34: Supply Chain Management | H34: 28 | I34: 42 | J34: 39
A35: Music Education | B35: 5 | C35: 4 | D35: 0 | G35: Total | H35: 2163 | I35: =SUM(I22:I34) -> 2084 | J35: =SUM(J22:J34) -> 2111
A36: Music in the Liberal Arts | B36: 21 | C36: 22 | D36: 21
A37: Music Performance | B37: 13 | C37: 15 | D37: 9 | G37: School of Health Sciences
A38: Music Production and Recording Arts | B38: 58 | C38: 52 | D38: 51 | G38: Nursing | H38: 222 | I38: 262 | J38: 289
A39: Music Theatre | B39: 67 | C39: 68 | D39: 72 | G39: Total | H39: 222 | I39: =I38 -> 262 | J39: =J38 -> 289
A40: Neuroscience | B40: 0 | C40: 10 | D40: 71
...
